BEGIN:VCALENDAR
VERSION:2.0
PRODID:-//HomoCanis - ECPv6.15.20//NONSGML v1.0//EN
CALSCALE:GREGORIAN
METHOD:PUBLISH
X-ORIGINAL-URL:https://ausbildungszentrum.homocanis.de
X-WR-CALDESC:Veranstaltungen für HomoCanis
REFRESH-INTERVAL;VALUE=DURATION:PT1H
X-Robots-Tag:noindex
X-PUBLISHED-TTL:PT1H
BEGIN:VTIMEZONE
TZID:Europe/Berlin
BEGIN:DAYLIGHT
TZOFFSETFROM:+0100
TZOFFSETTO:+0200
TZNAME:CEST
DTSTART:20240331T010000
END:DAYLIGHT
BEGIN:STANDARD
TZOFFSETFROM:+0200
TZOFFSETTO:+0100
TZNAME:CET
DTSTART:20241027T010000
END:STANDARD
BEGIN:DAYLIGHT
TZOFFSETFROM:+0100
TZOFFSETTO:+0200
TZNAME:CEST
DTSTART:20250330T010000
END:DAYLIGHT
BEGIN:STANDARD
TZOFFSETFROM:+0200
TZOFFSETTO:+0100
TZNAME:CET
DTSTART:20251026T010000
END:STANDARD
BEGIN:DAYLIGHT
TZOFFSETFROM:+0100
TZOFFSETTO:+0200
TZNAME:CEST
DTSTART:20260329T010000
END:DAYLIGHT
BEGIN:STANDARD
TZOFFSETFROM:+0200
TZOFFSETTO:+0100
TZNAME:CET
DTSTART:20261025T010000
END:STANDARD
BEGIN:DAYLIGHT
TZOFFSETFROM:+0100
TZOFFSETTO:+0200
TZNAME:CEST
DTSTART:20270328T010000
END:DAYLIGHT
BEGIN:STANDARD
TZOFFSETFROM:+0200
TZOFFSETTO:+0100
TZNAME:CET
DTSTART:20271031T010000
END:STANDARD
END:VTIMEZONE
BEGIN:VEVENT
DTSTART;TZID=Europe/Berlin:20260121T190000
DTEND;TZID=Europe/Berlin:20260121T210000
DTSTAMP:20260419T193127
CREATED:20251211T194230Z
LAST-MODIFIED:20251211T194230Z
UID:1697-1769022000-1769029200@ausbildungszentrum.homocanis.de
SUMMARY:TA 2026 - Webinar 1: Einführung in die TA
DESCRIPTION:Im ersten Webinar zur Ausbildung in der tiergestützten Arbeit erhalten die Teilnehmenden eine grundlegende Einführung in das Arbeitsfeld. Dabei werden zentrale Wirkmechanismen und gängige Erklärungsansätze vorgestellt\, ebenso ein Überblick über die historische Entwicklung. Außerdem geht es um die Voraussetzungen\, die Mensch und Tier für einen sicheren und wirksamen Einsatz mitbringen sollten. Das Webinar klärt wichtige Begriffe\, stellt gängige Methoden vor und gibt einen verständlichen Einblick in die aktuellen rechtlichen Rahmenbedingungen. So entsteht eine solide Basis für den weiteren Ausbildungsverlauf.
URL:https://ausbildungszentrum.homocanis.de/event/ta-2026-webinar-1-einfuehrung-in-die-ta/
CATEGORIES:Tiergestützt
END:VEVENT
BEGIN:VEVENT
DTSTART;VALUE=DATE:20260110
DTEND;VALUE=DATE:20260111
DTSTAMP:20260419T193127
CREATED:20251211T185142Z
LAST-MODIFIED:20251211T185142Z
UID:1695-1768003200-1768089599@ausbildungszentrum.homocanis.de
SUMMARY:Einstufungstest TA 2026
DESCRIPTION:Der Einstufungstest für die Ausbildung in der tiergestützten Arbeit dient dazu\, ein erstes Bild von der Persönlichkeit des Hundes und seinem aktuellen Trainingsstand zu bekommen. In einer ruhigen Umgebung wird beobachtet\, wie der Hund auf neue Situationen\, Menschen und kleine Aufgaben reagiert. Ebenso wird geprüft\, welche Grundlagen im Gehorsam bereits vorhanden sind und wo noch Unterstützung sinnvoll ist. Der Test hilft dabei\, den Hund und sein Potenzial realistisch einzuschätzen und die weitere Ausbildung passend zu planen.
URL:https://ausbildungszentrum.homocanis.de/event/einstufungstest-ta-2026/
CATEGORIES:Tiergestützt
END:VEVENT
BEGIN:VEVENT
DTSTART;VALUE=DATE:20251219
DTEND;VALUE=DATE:20251220
DTSTAMP:20260419T193127
CREATED:20251211T181306Z
LAST-MODIFIED:20251211T181306Z
UID:1692-1766102400-1766188799@ausbildungszentrum.homocanis.de
SUMMARY:Anmeldeschluss für den Einstufungstest am 10.01.2026
DESCRIPTION:Noch können sich Interessent*Innen für den Einstufungstest anmelden.
URL:https://ausbildungszentrum.homocanis.de/event/anmeldeschluss-fuer-den-einstufungstest-am-10-01-2026/
CATEGORIES:Tiergestützt
END:VEVENT
BEGIN:VEVENT
DTSTART;TZID=Europe/Berlin:20251213T090000
DTEND;TZID=Europe/Berlin:20251213T130000
DTSTAMP:20260419T193127
CREATED:20250210T190015Z
LAST-MODIFIED:20250210T190015Z
UID:1680-1765616400-1765630800@ausbildungszentrum.homocanis.de
SUMMARY:Abschlusskolloquium TA2025
DESCRIPTION:
URL:https://ausbildungszentrum.homocanis.de/event/abschlusskolloquium-ta2025/
CATEGORIES:Tiergestützt
ORGANIZER;CN="HomoCanis":MAILTO:info@homocanis.de
END:VEVENT
BEGIN:VEVENT
DTSTART;TZID=Europe/Berlin:20251129T080000
DTEND;TZID=Europe/Berlin:20251129T170000
DTSTAMP:20260419T193127
CREATED:20250210T185844Z
LAST-MODIFIED:20250210T185903Z
UID:1677-1764403200-1764435600@ausbildungszentrum.homocanis.de
SUMMARY:Praktische Prüfung TA2025
DESCRIPTION:
URL:https://ausbildungszentrum.homocanis.de/event/praktische-pruefung/
CATEGORIES:Tiergestützt
ORGANIZER;CN="HomoCanis":MAILTO:info@homocanis.de
END:VEVENT
BEGIN:VEVENT
DTSTART;TZID=Europe/Berlin:20251126T080000
DTEND;TZID=Europe/Berlin:20251127T233000
DTSTAMP:20260419T193127
CREATED:20250210T185651Z
LAST-MODIFIED:20250210T185651Z
UID:1675-1764144000-1764286200@ausbildungszentrum.homocanis.de
SUMMARY:Theoretische Prüfung TA2025
DESCRIPTION:
URL:https://ausbildungszentrum.homocanis.de/event/theoretische-pruefung-ta2025/
CATEGORIES:Tiergestützt
ORGANIZER;CN="HomoCanis":MAILTO:info@homocanis.de
END:VEVENT
BEGIN:VEVENT
DTSTART;TZID=Europe/Berlin:20251109T090000
DTEND;TZID=Europe/Berlin:20251109T130000
DTSTAMP:20260419T193127
CREATED:20250210T185537Z
LAST-MODIFIED:20250210T185537Z
UID:1673-1762678800-1762693200@ausbildungszentrum.homocanis.de
SUMMARY:Praxiswochenende TA2025
DESCRIPTION:
URL:https://ausbildungszentrum.homocanis.de/event/praxiswochenende-ta2025-12/
CATEGORIES:Tiergestützt
ORGANIZER;CN="HomoCanis":MAILTO:info@homocanis.de
END:VEVENT
BEGIN:VEVENT
DTSTART;TZID=Europe/Berlin:20251108T090000
DTEND;TZID=Europe/Berlin:20251108T130000
DTSTAMP:20260419T193127
CREATED:20250210T185442Z
LAST-MODIFIED:20250210T185442Z
UID:1671-1762592400-1762606800@ausbildungszentrum.homocanis.de
SUMMARY:Praxiswochenende TA2023
DESCRIPTION:
URL:https://ausbildungszentrum.homocanis.de/event/praxiswochenende-ta2023/
CATEGORIES:Tiergestützt
ORGANIZER;CN="HomoCanis":MAILTO:info@homocanis.de
END:VEVENT
BEGIN:VEVENT
DTSTART;TZID=Europe/Berlin:20251105T190000
DTEND;TZID=Europe/Berlin:20251105T210000
DTSTAMP:20260419T193127
CREATED:20250210T185337Z
LAST-MODIFIED:20250210T185337Z
UID:1669-1762369200-1762376400@ausbildungszentrum.homocanis.de
SUMMARY:Webinar: Einsatzmöglichkeiten für den Hund\, TA2025
DESCRIPTION:
URL:https://ausbildungszentrum.homocanis.de/event/webinar-einsatzmoeglichkeiten-fuer-den-hund-ta2025/
CATEGORIES:Tiergestützt
ORGANIZER;CN="HomoCanis":MAILTO:info@homocanis.de
END:VEVENT
BEGIN:VEVENT
DTSTART;TZID=Europe/Berlin:20250928T090000
DTEND;TZID=Europe/Berlin:20250928T130000
DTSTAMP:20260419T193127
CREATED:20250210T184419Z
LAST-MODIFIED:20250210T185232Z
UID:1666-1759050000-1759064400@ausbildungszentrum.homocanis.de
SUMMARY:Praxiswochenende TA2025
DESCRIPTION:
URL:https://ausbildungszentrum.homocanis.de/event/praxiswochende-ta2025-2/
CATEGORIES:Tiergestützt
ORGANIZER;CN="HomoCanis":MAILTO:info@homocanis.de
END:VEVENT
BEGIN:VEVENT
DTSTART;TZID=Europe/Berlin:20250927T090000
DTEND;TZID=Europe/Berlin:20250927T130000
DTSTAMP:20260419T193127
CREATED:20250210T184321Z
LAST-MODIFIED:20250210T184321Z
UID:1664-1758963600-1758978000@ausbildungszentrum.homocanis.de
SUMMARY:Praxiswochenende TA2025
DESCRIPTION:
URL:https://ausbildungszentrum.homocanis.de/event/praxiswochenende-ta2025-11/
CATEGORIES:Tiergestützt
ORGANIZER;CN="HomoCanis":MAILTO:info@homocanis.de
END:VEVENT
BEGIN:VEVENT
DTSTART;TZID=Europe/Berlin:20250924T190000
DTEND;TZID=Europe/Berlin:20250924T210000
DTSTAMP:20260419T193127
CREATED:20250210T184219Z
LAST-MODIFIED:20250210T184219Z
UID:1662-1758740400-1758747600@ausbildungszentrum.homocanis.de
SUMMARY:Webinar: Stressverhalten des Hundes und Management\, TA2025
DESCRIPTION:
URL:https://ausbildungszentrum.homocanis.de/event/webinar-stressverhalten-des-hundes-und-management-ta2025/
CATEGORIES:Tiergestützt
ORGANIZER;CN="HomoCanis":MAILTO:info@homocanis.de
END:VEVENT
BEGIN:VEVENT
DTSTART;TZID=Europe/Berlin:20250629T090000
DTEND;TZID=Europe/Berlin:20250629T130000
DTSTAMP:20260419T193127
CREATED:20250210T184057Z
LAST-MODIFIED:20250210T184057Z
UID:1660-1751187600-1751202000@ausbildungszentrum.homocanis.de
SUMMARY:Praxiswochenende TA2025
DESCRIPTION:
URL:https://ausbildungszentrum.homocanis.de/event/praxiswochenende-ta2025-10/
CATEGORIES:Tiergestützt
ORGANIZER;CN="HomoCanis":MAILTO:info@homocanis.de
END:VEVENT
BEGIN:VEVENT
DTSTART;TZID=Europe/Berlin:20250628T090000
DTEND;TZID=Europe/Berlin:20250628T130000
DTSTAMP:20260419T193127
CREATED:20250210T183948Z
LAST-MODIFIED:20250210T183948Z
UID:1658-1751101200-1751115600@ausbildungszentrum.homocanis.de
SUMMARY:Praxiswochenende TA2025
DESCRIPTION:
URL:https://ausbildungszentrum.homocanis.de/event/praxiswochenende-ta2025-9/
CATEGORIES:Tiergestützt
ORGANIZER;CN="HomoCanis":MAILTO:info@homocanis.de
END:VEVENT
BEGIN:VEVENT
DTSTART;TZID=Europe/Berlin:20250625T190000
DTEND;TZID=Europe/Berlin:20250625T210000
DTSTAMP:20260419T193127
CREATED:20250210T183452Z
LAST-MODIFIED:20250210T183626Z
UID:1655-1750878000-1750885200@ausbildungszentrum.homocanis.de
SUMMARY:Webinar: Dokumentation und Konzeption\, TA2025
DESCRIPTION:
URL:https://ausbildungszentrum.homocanis.de/event/webinar-dokumentation-und-konzeption-ta2025/
CATEGORIES:Tiergestützt
ORGANIZER;CN="HomoCanis":MAILTO:info@homocanis.de
END:VEVENT
BEGIN:VEVENT
DTSTART;TZID=Europe/Berlin:20250524T080000
DTEND;TZID=Europe/Berlin:20250524T170000
DTSTAMP:20260419T193127
CREATED:20250210T183310Z
LAST-MODIFIED:20250210T183310Z
UID:1653-1748073600-1748106000@ausbildungszentrum.homocanis.de
SUMMARY:Rezertifzierung
DESCRIPTION:
URL:https://ausbildungszentrum.homocanis.de/event/rezertifzierung/
CATEGORIES:Tiergestützt
ORGANIZER;CN="HomoCanis":MAILTO:info@homocanis.de
END:VEVENT
BEGIN:VEVENT
DTSTART;TZID=Europe/Berlin:20250518T090000
DTEND;TZID=Europe/Berlin:20250518T130000
DTSTAMP:20260419T193127
CREATED:20250210T183211Z
LAST-MODIFIED:20250210T183211Z
UID:1651-1747558800-1747573200@ausbildungszentrum.homocanis.de
SUMMARY:Praxiswochenende TA2025
DESCRIPTION:
URL:https://ausbildungszentrum.homocanis.de/event/praxiswochenende-ta2025-8/
CATEGORIES:Tiergestützt
ORGANIZER;CN="HomoCanis":MAILTO:info@homocanis.de
END:VEVENT
BEGIN:VEVENT
DTSTART;TZID=Europe/Berlin:20250517T090000
DTEND;TZID=Europe/Berlin:20250517T130000
DTSTAMP:20260419T193127
CREATED:20250210T183115Z
LAST-MODIFIED:20250210T183806Z
UID:1649-1747472400-1747486800@ausbildungszentrum.homocanis.de
SUMMARY:Anatomie\, Krankheiten und Zoonosen des Hundes\, TA2025
DESCRIPTION:In Präsenz.
URL:https://ausbildungszentrum.homocanis.de/event/praxiswochenende-ta2025-7/
CATEGORIES:Tiergestützt
ORGANIZER;CN="HomoCanis":MAILTO:info@homocanis.de
END:VEVENT
BEGIN:VEVENT
DTSTART;TZID=Europe/Berlin:20250514T190000
DTEND;TZID=Europe/Berlin:20250514T210000
DTSTAMP:20260419T193127
CREATED:20250210T183004Z
LAST-MODIFIED:20250210T183004Z
UID:1647-1747249200-1747256400@ausbildungszentrum.homocanis.de
SUMMARY:Webinar: Lernverhalten des Hundes\, TA2025
DESCRIPTION:
URL:https://ausbildungszentrum.homocanis.de/event/webinar-lernverhalten-des-hundes-ta2025/
CATEGORIES:Tiergestützt
ORGANIZER;CN="HomoCanis":MAILTO:info@homocanis.de
END:VEVENT
BEGIN:VEVENT
DTSTART;TZID=Europe/Berlin:20250406T090000
DTEND;TZID=Europe/Berlin:20250406T130000
DTSTAMP:20260419T193127
CREATED:20250210T182650Z
LAST-MODIFIED:20250210T182650Z
UID:1644-1743930000-1743944400@ausbildungszentrum.homocanis.de
SUMMARY:Praxiswochenende TA2025
DESCRIPTION:
URL:https://ausbildungszentrum.homocanis.de/event/praxiswochenende-ta2025-6/
CATEGORIES:Tiergestützt
ORGANIZER;CN="HomoCanis":MAILTO:info@homocanis.de
END:VEVENT
BEGIN:VEVENT
DTSTART;TZID=Europe/Berlin:20250405T090000
DTEND;TZID=Europe/Berlin:20250405T130000
DTSTAMP:20260419T193127
CREATED:20250210T182542Z
LAST-MODIFIED:20250210T182542Z
UID:1642-1743843600-1743858000@ausbildungszentrum.homocanis.de
SUMMARY:Praxiswochenende TA2025
DESCRIPTION:
URL:https://ausbildungszentrum.homocanis.de/event/praxiswochenende-ta2025-5/
CATEGORIES:Tiergestützt
ORGANIZER;CN="HomoCanis":MAILTO:info@homocanis.de
END:VEVENT
BEGIN:VEVENT
DTSTART;TZID=Europe/Berlin:20250402T190000
DTEND;TZID=Europe/Berlin:20250402T210000
DTSTAMP:20260419T193127
CREATED:20250210T182436Z
LAST-MODIFIED:20250210T182436Z
UID:1640-1743620400-1743627600@ausbildungszentrum.homocanis.de
SUMMARY:Webinar: Ausdrucksverhalten des Hundes\, TA2025
DESCRIPTION:
URL:https://ausbildungszentrum.homocanis.de/event/webinar-ausdrucksverhalten-des-hundes-ta2025-2/
CATEGORIES:Tiergestützt
ORGANIZER;CN="HomoCanis":MAILTO:info@homocanis.de
END:VEVENT
BEGIN:VEVENT
DTSTART;TZID=Europe/Berlin:20250316T090000
DTEND;TZID=Europe/Berlin:20250316T130000
DTSTAMP:20260419T193127
CREATED:20250210T182304Z
LAST-MODIFIED:20250210T182304Z
UID:1638-1742115600-1742130000@ausbildungszentrum.homocanis.de
SUMMARY:Praxiswochenende TA2024
DESCRIPTION:
URL:https://ausbildungszentrum.homocanis.de/event/praxiswochenende-ta2024-2/
CATEGORIES:Tiergestützt
ORGANIZER;CN="HomoCanis":MAILTO:info@homocanis.de
END:VEVENT
BEGIN:VEVENT
DTSTART;TZID=Europe/Berlin:20250315T090000
DTEND;TZID=Europe/Berlin:20250315T130000
DTSTAMP:20260419T193127
CREATED:20250210T151009Z
LAST-MODIFIED:20250210T182153Z
UID:1636-1742029200-1742043600@ausbildungszentrum.homocanis.de
SUMMARY:Praxiswochenende TA2025
DESCRIPTION:
URL:https://ausbildungszentrum.homocanis.de/event/praxiswochenende-ta2025-4/
CATEGORIES:Tiergestützt
ORGANIZER;CN="HomoCanis":MAILTO:info@homocanis.de
END:VEVENT
BEGIN:VEVENT
DTSTART;TZID=Europe/Berlin:20250312T190000
DTEND;TZID=Europe/Berlin:20250312T210000
DTSTAMP:20260419T193127
CREATED:20250210T150856Z
LAST-MODIFIED:20250210T150856Z
UID:1634-1741806000-1741813200@ausbildungszentrum.homocanis.de
SUMMARY:Webinar: Ausdrucksverhalten des Hundes\, TA2025
DESCRIPTION:
URL:https://ausbildungszentrum.homocanis.de/event/webinar-ausdrucksverhalten-des-hundes-ta2025/
CATEGORIES:Tiergestützt
ORGANIZER;CN="HomoCanis":MAILTO:info@homocanis.de
END:VEVENT
BEGIN:VEVENT
DTSTART;TZID=Europe/Berlin:20250302T090000
DTEND;TZID=Europe/Berlin:20250302T130000
DTSTAMP:20260419T193127
CREATED:20250210T145710Z
LAST-MODIFIED:20250210T145710Z
UID:1629-1740906000-1740920400@ausbildungszentrum.homocanis.de
SUMMARY:Praxiswochenende TA2025
DESCRIPTION:
URL:https://ausbildungszentrum.homocanis.de/event/praxiswochenende-ta2025-3/
CATEGORIES:Tiergestützt
END:VEVENT
BEGIN:VEVENT
DTSTART;TZID=Europe/Berlin:20250301T090000
DTEND;TZID=Europe/Berlin:20250301T130000
DTSTAMP:20260419T193127
CREATED:20250210T145327Z
LAST-MODIFIED:20250210T145327Z
UID:1627-1740819600-1740834000@ausbildungszentrum.homocanis.de
SUMMARY:Praxiswochenende TA2025
DESCRIPTION:
URL:https://ausbildungszentrum.homocanis.de/event/praxiswochenende-ta2025-2/
CATEGORIES:Tiergestützt
ORGANIZER;CN="HomoCanis":MAILTO:info@homocanis.de
END:VEVENT
BEGIN:VEVENT
DTSTART;TZID=Europe/Berlin:20250226T190000
DTEND;TZID=Europe/Berlin:20250226T210000
DTSTAMP:20260419T193127
CREATED:20250210T145156Z
LAST-MODIFIED:20250210T145156Z
UID:1625-1740596400-1740603600@ausbildungszentrum.homocanis.de
SUMMARY:Webinar: Ethologie des Hundes
DESCRIPTION:
URL:https://ausbildungszentrum.homocanis.de/event/webinar-ethologie-des-hundes-2/
ORGANIZER;CN="HomoCanis":MAILTO:info@homocanis.de
END:VEVENT
BEGIN:VEVENT
DTSTART;TZID=Europe/Berlin:20250216T090000
DTEND;TZID=Europe/Berlin:20250216T130000
DTSTAMP:20260419T193127
CREATED:20250210T144845Z
LAST-MODIFIED:20250210T144845Z
UID:1623-1739696400-1739710800@ausbildungszentrum.homocanis.de
SUMMARY:Praxiswochenende TA2025
DESCRIPTION:
URL:https://ausbildungszentrum.homocanis.de/event/praxiswochenende-ta2025/
END:VEVENT
BEGIN:VEVENT
DTSTART;TZID=Europe/Berlin:20250215T090000
DTEND;TZID=Europe/Berlin:20250215T130000
DTSTAMP:20260419T193127
CREATED:20250210T144755Z
LAST-MODIFIED:20250210T144755Z
UID:1621-1739610000-1739624400@ausbildungszentrum.homocanis.de
SUMMARY:Praxiswochende TA2025
DESCRIPTION:
URL:https://ausbildungszentrum.homocanis.de/event/praxiswochende-ta2025/
ORGANIZER;CN="HomoCanis":MAILTO:info@homocanis.de
END:VEVENT
END:VCALENDAR